BEGIN:VCALENDAR
VERSION:2.0
PRODID:-//BEFTG - ECPv6.15.20//NONSGML v1.0//EN
CALSCALE:GREGORIAN
METHOD:PUBLISH
X-ORIGINAL-URL:https://beftg.de
X-WR-CALDESC:Veranstaltungen für BEFTG
REFRESH-INTERVAL;VALUE=DURATION:PT1H
X-Robots-Tag:noindex
X-PUBLISHED-TTL:PT1H
BEGIN:VTIMEZONE
TZID:Europe/Berlin
BEGIN:DAYLIGHT
TZOFFSETFROM:+0100
TZOFFSETTO:+0200
TZNAME:CEST
DTSTART:20240331T010000
END:DAYLIGHT
BEGIN:STANDARD
TZOFFSETFROM:+0200
TZOFFSETTO:+0100
TZNAME:CET
DTSTART:20241027T010000
END:STANDARD
BEGIN:DAYLIGHT
TZOFFSETFROM:+0100
TZOFFSETTO:+0200
TZNAME:CEST
DTSTART:20250330T010000
END:DAYLIGHT
BEGIN:STANDARD
TZOFFSETFROM:+0200
TZOFFSETTO:+0100
TZNAME:CET
DTSTART:20251026T010000
END:STANDARD
BEGIN:DAYLIGHT
TZOFFSETFROM:+0100
TZOFFSETTO:+0200
TZNAME:CEST
DTSTART:20260329T010000
END:DAYLIGHT
BEGIN:STANDARD
TZOFFSETFROM:+0200
TZOFFSETTO:+0100
TZNAME:CET
DTSTART:20261025T010000
END:STANDARD
BEGIN:DAYLIGHT
TZOFFSETFROM:+0100
TZOFFSETTO:+0200
TZNAME:CEST
DTSTART:20270328T010000
END:DAYLIGHT
BEGIN:STANDARD
TZOFFSETFROM:+0200
TZOFFSETTO:+0100
TZNAME:CET
DTSTART:20271031T010000
END:STANDARD
END:VTIMEZONE
BEGIN:VEVENT
DTSTART;TZID=Europe/Berlin:20260314T103000
DTEND;TZID=Europe/Berlin:20260314T160000
DTSTAMP:20260420T043617
CREATED:20250315T230814Z
LAST-MODIFIED:20260122T105056Z
UID:10000013-1773484200-1773504000@beftg.de
SUMMARY:BEFTG-Bundesversammlung 2026
DESCRIPTION:Allg. Informationen\n\nSamstag\, den 14.03.2026\nBeginn um 10:30 Uhr (Frühstück ab 09:30 Uhr)\nEFB Porta Westfalica\, Unter der Kirche 34\, 32457 Porta Westfalica\n\nZielgruppe\n\nÄlteste\, Pastoren\, Gemeindeleiter\nPrediger\nJugendleiter\nDiakone\n\nInhalt\n\nRedner: Reinhold Eichinger\nThema: Auftrag und Dynamik der Gemeinde\n\nAspekte des Missionsbefehls\, die sich in Geschichte und Gegenwart bewährt haben | vormittags\nEntscheidende Werkzeuge für ein gewinnendes Zeugnis in der aktuellen Zeit | nachmittags\n\n\n\nAnmeldung\n\nhier
URL:https://beftg.de/event/beftg-bundesversammlung-2026/
LOCATION:EFB Porta Westfalica\, Unter der Kirche 34\, Porta Westfalica\, 32457\, Germany
ATTACH;FMTTYPE=image/jpeg:https://beftg.de/wp-content/uploads/2025/03/2025_bundesversammlung_teilnehmer-scaled-e1742080667337.jpg
ORGANIZER;CN="BEFTG":MAILTO:info@beftg.de
END:VEVENT
BEGIN:VEVENT
DTSTART;VALUE=DATE:20260220
DTEND;VALUE=DATE:20260222
DTSTAMP:20260420T043617
CREATED:20250121T213604Z
LAST-MODIFIED:20251001T122350Z
UID:10000009-1771545600-1771718399@beftg.de
SUMMARY:Musikkonferenz 2026 | Gemeinde.Singt!
DESCRIPTION:
URL:https://beftg.de/event/musikkonferenz-2026-gemeinde-singt/
LOCATION:MB Bielefeld | Standort Oldentrup\, Kuckucksweg 71\, Bielefeld\, 33607\, Germany
ATTACH;FMTTYPE=image/svg+xml:https://beftg.de/wp-content/uploads/2025/01/Musikkonferenz_LogomitSlogan.svg
ORGANIZER;CN="BEFTG":MAILTO:info@beftg.de
END:VEVENT
BEGIN:VEVENT
DTSTART;TZID=Europe/Berlin:20260213T163000
DTEND;TZID=Europe/Berlin:20260214T150000
DTSTAMP:20260420T043617
CREATED:20250303T132702Z
LAST-MODIFIED:20260115T202519Z
UID:10000012-1771000200-1771081200@beftg.de
SUMMARY:Tagung für Pastoren & Gemeindeleiter der BEFTG-Gemeinden 2026
DESCRIPTION:Datum \n13.-14. Februar 2026 \nOrt \nFreizeitheim Extertal der MBG Lemgo (navigieren)\nLinderhofer Str. 7\n32699 Extertal \nZielgruppe \n\nÄlteste\, Pastoren & Gemeindeleiter des BEFTG\n\nAgenda & Themen \nThema: „In Christus“ – wie emotionale Gesundheit Leitung prägt \nFREITAG \n\n16:30 Uhr | Anreise & Beziehen der Zimmer\n17:30 Uhr | Begrüßung\, Gebet\, Abendessen\n19:00 Uhr | Plenum\n\n\n\n\n\n\n\nGeistlicher Auftakt\nIntro & Ablauf\nVortrag: „Warum emotionale Gesundheit kein „Soft Skill“\, sondern geistliche Notwendigkeit ist.“ (Dr. Heinrich Kehler)\nAustausch (interaktiv)\nGebetsgemeinschaft\nAktuelles aus dem Bund\, Übergabe der 2L-Zertifikate\n\n\n\n\n\n\n\n\n21:00 Uhr | offener Abend / Gemeinschaft\n\nSAMSTAG \n\n08:00 Uhr | Frühstück\n09:00 Uhr | Plenum\n\n\n\n\n\n\n\nGeistlicher Auftakt\nImpulsvortrag I: „Gelassenheit im Sturm“ (David Wiebe)\n\nBuzz Groups & Fragen\n\n\nImpulsvortrag II: „Konfliktfähigkeit & Kritik“ (Dr. Heinrich Klassen)\n\nQ&A / Diskussion\n\n\n\n\n\n\n\n\n\n\n11:00 Uhr | Kaffeepause\n11:30 Uhr  | Plenum\n\n\n\n\n\nImpulsvortrag III: „Strukturen\, die atmen“ (Viktor Becker)\n\nGruppen-Transfer \n\n\nGebetszeit\nggf. Spaziergang / Gemeinschaft\n\n\n\n\n\n\n13:00 Uhr | Mittagessen\n14:00 Uhr | Abschluss & Segensgebet\n14:15 Uhr | Zimmer räumen & Abreise\n\nWir wollen die Zeit nutzen\, um uns durch Zeugnisse\, Erfahrungsberichte und verschiedenen Gesprächen „dazwischen“ gegenseitig zu ermutigen\, zu helfen und zu motivieren. Und selbstverständlich wollen wir uns durch die Ausrichtung auf unseren HERRN für unseren Dienst als Älteste und Gemeindeleiter zurüsten und füllen lassen. \nÜbernachtung & Teilnahme \n\nIm Freizeitheim stehen Übernachtungsplätze in Mehrbettzimmern zur Verfügung.\nWenn die Übernachtungsplätze im Freizeitheim ausgebucht sein sollten\, stellen Brüder aus OWL garantiert gerne einen Platz zur Verfügung.\nDie Teilnahme als Tagesgast ist möglich.\n\nKosten \n\nder BEFTG kommt für die Kosten auf!\n\nAnmeldung \n\nab sofort möglich: hier klicken
URL:https://beftg.de/event/aeltestentagung-2026/
LOCATION:Freizeitheim Extertal\, Linderhofer Str. 9\, Extertal\, 32699\, Germany
ATTACH;FMTTYPE=image/jpeg:https://beftg.de/wp-content/uploads/2024/09/pastoren.jpeg
ORGANIZER;CN="BEFTG":MAILTO:info@beftg.de
END:VEVENT
BEGIN:VEVENT
DTSTART;TZID=Europe/Berlin:20260124T100000
DTEND;TZID=Europe/Berlin:20260124T160000
DTSTAMP:20260420T043617
CREATED:20251110T144109Z
LAST-MODIFIED:20251203T131431Z
UID:10000017-1769248800-1769270400@beftg.de
SUMMARY:Gemeindegründertreffen
DESCRIPTION:Datum \n24. Januar 202610-16 Uhr Einlass: 09:30 Uhr \nOrt \nEFG Niedernberg (navigieren)Römerstraße 7963843 Niedernberg \nZielgruppe \nGemeindegründer\, Pastoren/Älteste\, Interessenten \nAgenda & Themen \nThema: Warum sollen Gemeinden Gemeinden gründen? \nProgramm \n\nAustausch\nThemenvorträge\nMittagessen\nBerichte von Gemeindegründungen\nNeuigkeiten zu Seminaren und Veranstaltungen rund um das Thema Gemeindegrüdung\nKaffeetrinken zum Abschluss um 15 Uhr\netc.\n \n\nReferenten & Gäste \n\nViktor Kamnev (Pastor in der EF-Köln)\nHeinrich Schneider (Pastor in der MB Bielefeld)\nEduard Hagelgans (Ältester in der MBG Lemgo\, Mitarbeiter der Bibelmission)\nJakob Ferber (Gemeindegründer)\nund weitere\n\nVeranstalter \n\nBEFTG-Team „Gemeindegründung“\n\nKosten \nEintritt ist frei \nAnmeldung \nab sofort möglich: hier klicken
URL:https://beftg.de/event/2026-01-24_gemeindegruendertreffen/
LOCATION:EFG Niedernberg\, EFG Niedernberg\, Niedernberg\, 63843\, Germany
ATTACH;FMTTYPE=image/png:https://beftg.de/wp-content/uploads/2025/11/gemeindegruendung-e1762786637792.png
ORGANIZER;CN="BEFTG":MAILTO:info@beftg.de
END:VEVENT
BEGIN:VEVENT
DTSTART;TZID=Europe/Berlin:20250618T170000
DTEND;TZID=Europe/Berlin:20250621T140000
DTSTAMP:20260420T043617
CREATED:20250120T204934Z
LAST-MODIFIED:20250322T213642Z
UID:10000007-1750266000-1750514400@beftg.de
SUMMARY:Predigerkonferenz 2025 | PREDIGE DAS WORT - entschieden nachfolgen! (Anmeldung möglich!)
DESCRIPTION:
URL:https://beftg.de/event/2025-predigerkonferenz/
LOCATION:MBG Lemgo\, Am Bauhof\, 14a\, Lemgo\, 32657\, Germany
ATTACH;FMTTYPE=image/jpeg:https://beftg.de/wp-content/uploads/2025/01/2025-predigerkonferenz-e1737406407711.jpg
END:VEVENT
BEGIN:VEVENT
DTSTART;VALUE=DATE:20250404
DTEND;VALUE=DATE:20250407
DTSTAMP:20260420T043617
CREATED:20250121T215319Z
LAST-MODIFIED:20250121T215357Z
UID:10000011-1743724800-1743983999@beftg.de
SUMMARY:Täufertour | 500 Jahre Täuferbewegung
DESCRIPTION:
URL:https://beftg.de/event/taeufertour-500-jahre-taeuferbewegung/
ATTACH;FMTTYPE=image/webp:https://beftg.de/wp-content/uploads/2025/01/TAeUFERTOUR-1.png-1-1536x1090-1-e1737496359680.webp
ORGANIZER;CN="Bibelseminar Bonn":MAILTO:info@bsb-online.de
END:VEVENT
BEGIN:VEVENT
DTSTART;TZID=Europe/Berlin:20250315T103000
DTEND;TZID=Europe/Berlin:20250315T160000
DTSTAMP:20260420T043617
CREATED:20250120T195949Z
LAST-MODIFIED:20250211T144632Z
UID:10000005-1742034600-1742054400@beftg.de
SUMMARY:BEFTG-Bundesversammlung 2025
DESCRIPTION:Allg. Informationen\n\nSamstag\, den 15.03.2025\nBeginn um 10:30 Uhr\nFEBG Dinslaken\, Drei eichen 5\, 46535 Dinslaken\n\nZielgruppe\n\nÄlteste\, Pastoren\, Gemeindeleiter\nPrediger\nJugendleiter\nDiakone\n\nInhalt\n\nVortrag: Entstehungsgeschichte der FreikirchenRobert Koop\, Pastor EF Bonn-Beuel\, Leiter des Instituts für Theologie & Geschichte am Bibelseminar Bonn\n\nImpulse speziell für DiakoneErich Dick\, Ältester der CMBG Waldbröl\, BEFTG-Vorstandsmitglied\n\nAnmeldung\n\nAnmeldung bis zum 05.03.2025\nbei Möglichkeit zur Teilnahme am Frühstück\, bitte in der Anmeldung ankreuzen\n\n					\n									Anmeldung
URL:https://beftg.de/event/2025-bundesversammlung/
LOCATION:FEBG Dinslaken\, Drei Eichen 5\, Dinslaken\, 46535\, Germany
ATTACH;FMTTYPE=image/jpeg:https://beftg.de/wp-content/uploads/2025/01/2024_Bundesversammlung_Lippstadt-scaled.jpg
ORGANIZER;CN="BEFTG":MAILTO:info@beftg.de
END:VEVENT
BEGIN:VEVENT
DTSTART;TZID=Europe/Berlin:20250314T180000
DTEND;TZID=Europe/Berlin:20250314T220000
DTSTAMP:20260420T043617
CREATED:20250120T201528Z
LAST-MODIFIED:20250120T221726Z
UID:10000006-1741975200-1741989600@beftg.de
SUMMARY:BEFTG-Gemeindegründertreffen 2025
DESCRIPTION:Wir laden herzlich zum Gemeindegründertreffen nach Dinslaken ein. \nUnser Konzept \n\nUnsere Vision ist\, das Evangelium durch Gemeindegründung in Deutschland zu verbreiten.\nUnsere Überzeugung ist\, dass wir als Gemeinden in diesem Bereich eng zusammenarbeiten müssen.\nUnsere Strategie ist\, Schlüsselpersonen (Gründer\, Interessenten und Pastoren) zu versammeln\, zu ermutigen und zu vernetzen.\n\nZielgruppe \nGemeindegründer\, Pastoren/Älteste\, Interessenten \nThema & Agenda \nTime Gemeindegründertreffen 2025  17:30Einlass18:00Abendessen19:00Plenum\n 	Austausch\n 	Themenvortrag\n 	Berichte von Gemeindegründungen\n 	Neuigkeiten zu Seminaren rund um das Thema Gemeindegründung\n 				\n\n											\n							Markus Nietzke						\n					\n											\n							Gemeindegründer in Oberhausen						\n					\n				\n								\n\n											\n							Fiodor Baraniuk						\n					\n											\n							Missionar von IMB						\n					\n				\n								\n\n											\n							Heinrich Löwen						\n					\n											\n							Gemeindegründung Essen						\n					\n				\n								\n\n											\n							Alex Dell						\n					\n											\n							To All Nations\, Feldleiter						\n					\n				\n				\nÜbernachtungsmöglichkeit \nFür alle\, die eine weitere Anreise haben oder am nächsten Tag an der BEF(TG) Mitgliederversammlung teilnehmen möchten\, werden von der Gemeinde Übernachtungsmöglichkeiten bei Privatpersonen angeboten. Bitte entsprechend im Anmeldeformular ankreuzen. \nWeitere Informationen zur Bundesversammlung am Folgetag und die separate Anmeldung findest du hier: \nhttps://beftg.de/event/2025-bundesversammlung/ \nVeranstalter \nArbeitskreis Gemeindegründung im BEF(TG)https://beftg.de/gemeindegruendung-im-beftg/ \nLeiter der Veranstaltung: Heinrich Schneider hschneider@mb-bielefeld.de \nAnmeldung \nBitte melde dich unter folgendem Link an \nhttps://mb-bielefeld.church.tools/publicgroup/4535
URL:https://beftg.de/event/beftg-gemeindegruendertreffen-2025/
LOCATION:FEBG Dinslaken\, Drei Eichen 5\, Dinslaken\, 46535\, Germany
ATTACH;FMTTYPE=image/jpeg:https://beftg.de/wp-content/uploads/2025/01/2025_gemeindegruendertreffen-e1737405155333.jpeg
END:VEVENT
BEGIN:VEVENT
DTSTART;TZID=Europe/Berlin:20250222T100000
DTEND;TZID=Europe/Berlin:20250222T180000
DTSTAMP:20260420T043617
CREATED:20250120T102654Z
LAST-MODIFIED:20250211T160139Z
UID:10000002-1740218400-1740247200@beftg.de
SUMMARY:!!! AUSGEBUCHT !!! Seminar für Mitarbeiter im Finanzwesen
DESCRIPTION:Datum \nSa. 22. Februar 2025 \nOrt \nKAB Kirche am Bahnhof Helpup\nHelpuper Str. 370\n33818 Leopoldshöhe \nZielgruppe \n\nVereinsvorsitzende\nKassierer und Buchhalter\nund alle\, die es werden sollen\n\nThema & Agenda \n10:0013:0014:0016:0017:00Vorträge | Block I10:00 - 13:00 (180 min)MODUL 2\n\n 	Vermögensverwaltung\,\n 	Anlagevermögen\,\n 	Kassenbericht\,\n 	Finanzamt\n\nweitere aktuelle Themen\n\n 	PV-Anlage\n 	Mittelverwendung\n 	E-Rechnung\n 	Eintragung Transparenzregister\n 	Umstellung SKR 49 > SKR 42\n 	§ 52 Nr. 27 AO Wohngemeinnützigkeit\nMITTAGESSEN13:00 - 14:00 (60 min)Vorträge | Block II14:00 - 16:00 (120 min)MODUL 2\n\n 	Vermögensverwaltung\,\n 	Anlagevermögen\,\n 	Kassenbericht\,\n 	Finanzamt\n\nweitere aktuelle Themen\n\n 	PV-Anlage\n 	Mittelverwendung\n 	E-Rechnung\n 	Eintragung Transparenzregister\n 	Umstellung SKR 49 > SKR 42\n 	§ 52 Nr. 27 AO Wohngemeinnützigkeit\nFragen & Antworten im Plenum16:00 - 17:00 (60 min)Ausklang mit Kaffeezeit17:00 - 18:00 (60 min)\n  \nKosten \n\nkostenfrei für Teilnehmer aus Bundesgemeinden\n20\,00 € (für Teilnehmer aus Nicht-Bundesgemeinden als Materialkostenbeitrag)\nDie Zahlungsaufforderung erfolgt nach der Anmeldung.\n\nAnmeldung  \n\nhier anmelden
URL:https://beftg.de/event/seminar-fuer-mitarbeiter-im-finanzwesen/
LOCATION:KAB Kirche am Bahnhof Helpup\, Helpuper Str. 370\, Leopoldshöhe\, 33818\, Germany
ATTACH;FMTTYPE=image/jpeg:https://beftg.de/wp-content/uploads/2023/06/zusammenarbeit-4.jpg
ORGANIZER;CN="BEFTG":MAILTO:info@beftg.de
END:VEVENT
BEGIN:VEVENT
DTSTART;TZID=Europe/Berlin:20250214T163000
DTEND;TZID=Europe/Berlin:20250215T150000
DTSTAMP:20260420T043617
CREATED:20250120T100228Z
LAST-MODIFIED:20250120T223613Z
UID:10000001-1739550600-1739631600@beftg.de
SUMMARY:Tagung für Pastoren & Gemeindeleiter der BEFTG-Gemeinden
DESCRIPTION:Datum \n14.-15. Februar 2025 \nOrt \nFreizeitheim Extertal der MBG Lemgo (navigieren)\nLinderhofer Str. 7\n32699 Extertal \nZielgruppe \n\nÄlteste\, Pastoren & Gemeindeleiter des BEFTG\n\nAgenda & Themen \nFreitag\, Februar 14Samstag\, Februar 15Time Freitag  16:30Anreise & Beziehen der Zimmer17:00ABENDESSEN19:00Plenum\n\n\nVortrag: Die Staffelübergabe: Annähern – Übergeben –Loslassen – Weiterlaufen\nBerthold Meier\n\n\nGesprächsrunde: Was sind Do's & Don'ts bei der der Staffelübergabe?\nModeration: Jakob Dück | Diskussion: Heinrich Schneider\, Benjamin Steiger\, Tobias Pauls\n\n\nInterview: Wie geschieht die Staffelübergabe im Bund?\nInterview: Jakob Dück & Dr. Heinrich Klassen\n\n\nZertifikatsübergabe an 2L-Teilnehmer\nu.a. Dr. Heinrich Kehler\, Genadi Kimbel\n\n\n 				\n\n											\n							Berthold Meier						\n					\n											\n							ehem. Generalsekretär\, Verband Evangelischer Bekenntnisschulen (VEBS)						\n					\n				\n								\n\n											\n							Dr. Heinrich Klassen						\n					\n											\n							BEFTG-Bundesleiter / Pastor MB Bielefeld						\n					\n				\n								\n\n											\n							Jakob Dück						\n					\n											\n							BEFTG-Referent						\n					\n				\n								\n\n											\n							Tobias Pauls						\n					\n											\n							Pastor MB-Bielefeld Oldentrup						\n					\n				\n								\n\n											\n							Benjamin Steiger						\n					\n											\n							Pastor MB-Bielefeld						\n					\n				\n								\n\n											\n							Heinrich Schneider						\n					\n											\n							Pastor MB-Bielefeld Heepen / BEFTG-Teamleiter "Gemeindegründung"						\n					\n				\n				21:15Gemeinschaft bei Kaffee & KuchenTime Samstag  7:30Öffnung des Geländes\, Anfahrt8:00FRÜHSTÜCK9:00Plenum\n\n\nAndacht & Gebet\n\n\nGruppenarbeit & Ergebnispräsentation:Wie gestaltet man die Staffelübergabe?\n\n\nThemenblock: Ordne Deinen Dienst...\n\n 	…durch Schaffung sinnvoller Strukturen\n 	…durch eine gesunde Ausgewogenheit von Arbeit & Ruhe\n 	…durch Delegieren von Aufgaben & Verantwortung\n\n\n\n 				\n\n											\n							Andreas Baier						\n					\n											\n							Pastor ECG Hannover						\n					\n				\n								\n\n											\n							Christian Federer						\n					\n											\n							Pastor FEBG Espelkamp						\n					\n				\n								\n\n											\n							Viktor Sukkau						\n					\n											\n							Pastor ECG Hannover / BEFTG-Vorstandsmitglied						\n					\n				\n								\n\n											\n							Nikolai Kimbel						\n					\n											\n							Pastor MBG Lemgo\, BEFTG-Vorstandsmitglied						\n					\n				\n				11:00KAFFEEPAUSE11:45Plenum\n\n\nThemenblock: Ordne Deinen Dienst...\n\n 	…durch Einsatz hilfreicher Planungs- und Organisationswerkzeuge\n 	…durch Nutzung digitaler Möglichkeiten\n\n\n\n\nFragen & Antworten\n\n\nZeugnisse & Gebetsgemeinschaft\n\n\nGemeinschaft & Gespräche\n\n\n 				\n\n											\n							Jakob Lanket						\n					\n											\n							BEFTG-Teamleiter "Jugend & Jüngerschaft"						\n					\n				\n								\n\n											\n							Viktor Sukkau						\n					\n											\n							Pastor ECG Hannover / BEFTG-Vorstandsmitglied						\n					\n				\n								\n\n											\n							Heinrich Schneider						\n					\n											\n							Pastor MB-Bielefeld Heepen / BEFTG-Teamleiter "Gemeindegründung"						\n					\n				\n								\n\n											\n							Jakob Dück						\n					\n											\n							BEFTG-Referent						\n					\n				\n				13:00MITTAGESSEN14:00Abschluss & Segen 				\n\n											\n							Dr. Heinrich Klassen						\n					\n											\n							BEFTG-Bundesleiter / Pastor MB Bielefeld						\n					\n				\n				14:30Zimmer räumen & Abreise\nWir wollen die Zeit auch nutzen\, um uns durch Zeugnisse\, Erfahrungsberichte und verschiedenen Gesprächen „dazwischen“ gegenseitig zu ermutigen\, zu helfen und zu motivieren. Und selbstverständlich wollen wir uns durch die Ausrichtung auf unseren HERRN für unseren Dienst als Älteste und Gemeindeleiter zurüsten und füllen lassen. \nÜbernachtung & Teilnahme \n\nIm Freizeitheim stehen Übernachtungsplätze in Mehrbettzimmern zur Verfügung.\nWenn die Übernachtungsplätze im Freizeitheim ausgebucht sein sollten\, stellen Brüder aus OWL garantiert gerne einen Platz zur Verfügung.\nDie Teilnahme als Tagesgast ist möglich.\n\nKosten \n\nder BEFTG kommt für die Kosten auf!\n\nAnmeldung \n\nLink zur Anmeldung
URL:https://beftg.de/event/2025-aeltestentagung/
LOCATION:Freizeitheim Extertal\, Linderhofer Str. 9\, Extertal\, 32699\, Germany
ATTACH;FMTTYPE=image/jpeg:https://beftg.de/wp-content/uploads/2024/09/pastoren.jpeg
ORGANIZER;CN="BEFTG":MAILTO:info@beftg.de
END:VEVENT
END:VCALENDAR