BEGIN:VCALENDAR
VERSION:2.0
PRODID:-//BEFTG - ECPv6.15.20//NONSGML v1.0//EN
CALSCALE:GREGORIAN
METHOD:PUBLISH
X-WR-CALNAME:BEFTG
X-ORIGINAL-URL:https://beftg.de
X-WR-CALDESC:Veranstaltungen für BEFTG
REFRESH-INTERVAL;VALUE=DURATION:PT1H
X-Robots-Tag:noindex
X-PUBLISHED-TTL:PT1H
BEGIN:VTIMEZONE
TZID:Europe/Berlin
BEGIN:DAYLIGHT
TZOFFSETFROM:+0100
TZOFFSETTO:+0200
TZNAME:CEST
DTSTART:20240331T010000
END:DAYLIGHT
BEGIN:STANDARD
TZOFFSETFROM:+0200
TZOFFSETTO:+0100
TZNAME:CET
DTSTART:20241027T010000
END:STANDARD
BEGIN:DAYLIGHT
TZOFFSETFROM:+0100
TZOFFSETTO:+0200
TZNAME:CEST
DTSTART:20250330T010000
END:DAYLIGHT
BEGIN:STANDARD
TZOFFSETFROM:+0200
TZOFFSETTO:+0100
TZNAME:CET
DTSTART:20251026T010000
END:STANDARD
BEGIN:DAYLIGHT
TZOFFSETFROM:+0100
TZOFFSETTO:+0200
TZNAME:CEST
DTSTART:20260329T010000
END:DAYLIGHT
BEGIN:STANDARD
TZOFFSETFROM:+0200
TZOFFSETTO:+0100
TZNAME:CET
DTSTART:20261025T010000
END:STANDARD
END:VTIMEZONE
BEGIN:VEVENT
DTSTART;VALUE=DATE:20250404
DTEND;VALUE=DATE:20250407
DTSTAMP:20260421T102636
CREATED:20250121T215319Z
LAST-MODIFIED:20250121T215357Z
UID:5425-1743724800-1743983999@beftg.de
SUMMARY:Täufertour | 500 Jahre Täuferbewegung
DESCRIPTION:
URL:https://beftg.de/event/taeufertour-500-jahre-taeuferbewegung/
ATTACH;FMTTYPE=image/webp:https://beftg.de/wp-content/uploads/2025/01/TAeUFERTOUR-1.png-1-1536x1090-1-e1737496359680.webp
ORGANIZER;CN="Bibelseminar Bonn":MAILTO:info@bsb-online.de
END:VEVENT
END:VCALENDAR